Package: cleaver Version: 1.40.0 Command: chmod a+r cleaver -R && F:\biocbuild\bbs-3.18-bioc\R\bin\R.exe CMD build --keep-empty-dirs --no-resave-data cleaver StartedAt: 2024-04-15 17:37:14 -0400 (Mon, 15 Apr 2024) EndedAt: 2024-04-15 17:37:41 -0400 (Mon, 15 Apr 2024) EllapsedTime: 26.6 seconds RetCode: 0 Status: OK PackageFile: cleaver_1.40.0.tar.gz PackageFileSize: 319.9 KiB