Package: cleaver Version: 1.40.0 Command: rm -rf cleaver.buildbin-libdir && mkdir cleaver.buildbin-libdir && F:\biocbuild\bbs-3.18-bioc\R\bin\R.exe CMD INSTALL --build --library=cleaver.buildbin-libdir cleaver_1.40.0.tar.gz StartedAt: 2024-04-16 06:48:48 -0400 (Tue, 16 Apr 2024) EndedAt: 2024-04-16 06:49:03 -0400 (Tue, 16 Apr 2024) EllapsedTime: 15.5 seconds RetCode: 0 Status: OK PackageFile: cleaver_1.40.0.zip PackageFileSize: 357.2 KiB