Package: cleaver Version: 1.40.0 Command: /Library/Frameworks/R.framework/Resources/bin/R CMD INSTALL cleaver StartedAt: 2024-04-15 15:11:52 -0400 (Mon, 15 Apr 2024) EndedAt: 2024-04-15 15:12:14 -0400 (Mon, 15 Apr 2024) EllapsedTime: 21.5 seconds RetCode: 0 Status: OK