Package: cleaver Version: 1.40.0 Command: /Library/Frameworks/R.framework/Resources/bin/R CMD INSTALL cleaver StartedAt: 2024-03-03 15:08:28 -0500 (Sun, 03 Mar 2024) EndedAt: 2024-03-03 15:08:44 -0500 (Sun, 03 Mar 2024) EllapsedTime: 15.5 seconds RetCode: 0 Status: OK