Package: cleaver Version: 1.40.0 Command: /Library/Frameworks/R.framework/Resources/bin/R CMD check --install=check:cleaver.install-out.txt --library=/Library/Frameworks/R.framework/Resources/library --no-vignettes --timings cleaver_1.40.0.tar.gz StartedAt: 2024-03-03 19:38:45 -0500 (Sun, 03 Mar 2024) EndedAt: 2024-03-03 19:40:19 -0500 (Sun, 03 Mar 2024) EllapsedTime: 93.7 seconds RetCode: 0 Status: OK CheckDir: cleaver.Rcheck Warnings: 0