Package: cleaver Version: 1.40.0 Command: /Library/Frameworks/R.framework/Resources/bin/R CMD build --keep-empty-dirs --no-resave-data cleaver StartedAt: 2024-03-03 16:15:06 -0500 (Sun, 03 Mar 2024) EndedAt: 2024-03-03 16:15:30 -0500 (Sun, 03 Mar 2024) EllapsedTime: 23.7 seconds RetCode: 0 Status: OK PackageFile: cleaver_1.40.0.tar.gz PackageFileSize: 339.8 KiB