Package: chimeraviz Version: 1.28.0 Command: /Library/Frameworks/R.framework/Resources/bin/R CMD check --install=check:chimeraviz.install-out.txt --library=/Library/Frameworks/R.framework/Resources/library --no-vignettes --timings chimeraviz_1.28.0.tar.gz StartedAt: 2024-04-16 00:36:56 -0400 (Tue, 16 Apr 2024) EndedAt: 2024-04-16 00:58:52 -0400 (Tue, 16 Apr 2024) EllapsedTime: 1316.7 seconds RetCode: 0 Status: OK CheckDir: chimeraviz.Rcheck Warnings: 0