Package: censcyt Version: 1.10.0 Command: rm -rf censcyt.buildbin-libdir && mkdir censcyt.buildbin-libdir && /Users/biocbuild/BBS/utils/build-universal.sh censcyt_1.10.0.tar.gz /Library/Frameworks/R.framework/Resources/bin/R censcyt.buildbin-libdir StartedAt: 2024-04-16 11:12:56 -0400 (Tue, 16 Apr 2024) EndedAt: 2024-04-16 11:14:52 -0400 (Tue, 16 Apr 2024) EllapsedTime: 115.3 seconds RetCode: 0 Status: OK PackageFile: censcyt_1.10.0.tgz PackageFileSize: 605.6 KiB