Package: categoryCompare Version: 1.46.0 Command: /home/biocbuild/R/R-4.3.1/bin/R CMD build --keep-empty-dirs --no-resave-data categoryCompare StartedAt: 2023-11-01 23:02:18 -0000 (Wed, 01 Nov 2023) EndedAt: 2023-11-01 23:06:09 -0000 (Wed, 01 Nov 2023) EllapsedTime: 231.3 seconds RetCode: 0 Status: OK PackageFile: categoryCompare_1.46.0.tar.gz PackageFileSize: 3.185 MiB