Package: brendaDb Version: 1.16.0 Command: /Library/Frameworks/R.framework/Resources/bin/R CMD check --install=check:brendaDb.install-out.txt --library=/Library/Frameworks/R.framework/Resources/library --no-vignettes --timings brendaDb_1.16.0.tar.gz StartedAt: 2024-03-03 19:20:14 -0500 (Sun, 03 Mar 2024) EndedAt: 2024-03-03 19:21:41 -0500 (Sun, 03 Mar 2024) EllapsedTime: 87.3 seconds RetCode: 0 Status: OK CheckDir: brendaDb.Rcheck Warnings: 0