Package: biomaRt Version: 2.58.2 Command: /Library/Frameworks/R.framework/Resources/bin/R CMD INSTALL biomaRt StartedAt: 2024-03-03 15:17:27 -0500 (Sun, 03 Mar 2024) EndedAt: 2024-03-03 15:17:53 -0500 (Sun, 03 Mar 2024) EllapsedTime: 26.4 seconds RetCode: 0 Status: OK