Package: biodbNcbi Version: 1.6.0 Command: /home/biocbuild/R/R-4.3.1/bin/R CMD INSTALL biodbNcbi StartedAt: 2023-11-01 20:52:25 -0000 (Wed, 01 Nov 2023) EndedAt: 2023-11-01 20:52:40 -0000 (Wed, 01 Nov 2023) EllapsedTime: 14.3 seconds RetCode: 0 Status: OK