Package: biodbMirbase Version: 1.5.1 Command: rm -rf biodbMirbase.buildbin-libdir && mkdir biodbMirbase.buildbin-libdir && F:\biocbuild\bbs-3.18-bioc\R\bin\R.exe CMD INSTALL --build --library=biodbMirbase.buildbin-libdir biodbMirbase_1.5.1.tar.gz StartedAt: 2023-08-12 08:02:16 -0400 (Sat, 12 Aug 2023) EndedAt: 2023-08-12 08:02:31 -0400 (Sat, 12 Aug 2023) EllapsedTime: 15.1 seconds RetCode: 0 Status: OK PackageFile: biodbMirbase_1.5.1.zip PackageFileSize: 362.6 KiB