Package: biobtreeR Version: 1.14.0 Command: chmod a+r biobtreeR -R && F:\biocbuild\bbs-3.18-bioc\R\bin\R.exe CMD build --keep-empty-dirs --no-resave-data biobtreeR StartedAt: 2024-04-15 17:11:43 -0400 (Mon, 15 Apr 2024) EndedAt: 2024-04-15 17:12:49 -0400 (Mon, 15 Apr 2024) EllapsedTime: 66.2 seconds RetCode: 0 Status: OK PackageFile: biobtreeR_1.14.0.tar.gz PackageFileSize: 938.4 KiB