Package: biobtreeR Version: 1.14.0 Command: rm -rf biobtreeR.buildbin-libdir && mkdir biobtreeR.buildbin-libdir && F:\biocbuild\bbs-3.18-bioc\R\bin\R.exe CMD INSTALL --build --library=biobtreeR.buildbin-libdir biobtreeR_1.14.0.tar.gz StartedAt: 2024-04-16 06:42:07 -0400 (Tue, 16 Apr 2024) EndedAt: 2024-04-16 06:42:16 -0400 (Tue, 16 Apr 2024) EllapsedTime: 9.7 seconds RetCode: 0 Status: OK PackageFile: biobtreeR_1.14.0.zip PackageFileSize: 984.5 KiB