Package: bigPint Version: 1.18.1 Command: rm -rf bigPint.buildbin-libdir && mkdir bigPint.buildbin-libdir && F:\biocbuild\bbs-3.18-bioc\R\bin\R.exe CMD INSTALL --build --library=bigPint.buildbin-libdir bigPint_1.18.1.tar.gz StartedAt: 2024-04-16 06:41:57 -0400 (Tue, 16 Apr 2024) EndedAt: 2024-04-16 06:42:39 -0400 (Tue, 16 Apr 2024) EllapsedTime: 41.9 seconds RetCode: 0 Status: OK PackageFile: bigPint_1.18.1.zip PackageFileSize: 5.845 MiB