Package: baySeq Version: 2.36.0 Command: /Library/Frameworks/R.framework/Resources/bin/R CMD build --keep-empty-dirs --no-resave-data baySeq StartedAt: 2024-03-03 15:57:27 -0500 (Sun, 03 Mar 2024) EndedAt: 2024-03-03 16:04:55 -0500 (Sun, 03 Mar 2024) EllapsedTime: 448.0 seconds RetCode: 0 Status: OK PackageFile: baySeq_2.36.0.tar.gz PackageFileSize: 1.121 MiB