Package: annaffy Version: 1.74.0 Command: /home/biocbuild/R/R-4.3.1/bin/R CMD check --install=check:annaffy.install-out.txt --library=/home/biocbuild/R/R-4.3.1/site-library --no-vignettes --timings annaffy_1.74.0.tar.gz StartedAt: 2023-11-02 08:19:05 -0000 (Thu, 02 Nov 2023) EndedAt: 2023-11-02 08:21:18 -0000 (Thu, 02 Nov 2023) EllapsedTime: 132.4 seconds RetCode: 0 Status: WARNINGS CheckDir: annaffy.Rcheck Warnings: 1