Package: alpine Version: 1.25.0 Command: /Library/Frameworks/R.framework/Resources/bin/R CMD build --keep-empty-dirs --no-resave-data alpine StartedAt: 2023-04-23 15:43:23 -0400 (Sun, 23 Apr 2023) EndedAt: 2023-04-23 15:43:24 -0400 (Sun, 23 Apr 2023) EllapsedTime: 1.2 seconds RetCode: 1 Status: ERROR PackageFile: None PackageFileSize: NA