Package: alabaster.se Version: 1.2.0 Command: /Library/Frameworks/R.framework/Resources/bin/R CMD INSTALL alabaster.se StartedAt: 2024-03-03 15:38:17 -0500 (Sun, 03 Mar 2024) EndedAt: 2024-03-03 15:38:51 -0500 (Sun, 03 Mar 2024) EllapsedTime: 33.6 seconds RetCode: 0 Status: OK