Package: agilp Version: 3.34.0 Command: /Library/Frameworks/R.framework/Resources/bin/R CMD check --install=check:agilp.install-out.txt --library=/Library/Frameworks/R.framework/Resources/library --no-vignettes --timings agilp_3.34.0.tar.gz StartedAt: 2024-03-03 18:51:38 -0500 (Sun, 03 Mar 2024) EndedAt: 2024-03-03 18:52:06 -0500 (Sun, 03 Mar 2024) EllapsedTime: 27.5 seconds RetCode: 0 Status: OK CheckDir: agilp.Rcheck Warnings: 0