Package: agilp Version: 3.34.0 Command: rm -rf agilp.buildbin-libdir && mkdir agilp.buildbin-libdir && /Users/biocbuild/BBS/utils/build-universal.sh agilp_3.34.0.tar.gz /Library/Frameworks/R.framework/Resources/bin/R agilp.buildbin-libdir StartedAt: 2024-03-04 00:28:08 -0500 (Mon, 04 Mar 2024) EndedAt: 2024-03-04 00:28:17 -0500 (Mon, 04 Mar 2024) EllapsedTime: 8.9 seconds RetCode: 0 Status: OK PackageFile: agilp_3.34.0.tgz PackageFileSize: 487.8 KiB