Package: affylmGUI Version: 1.76.0 Command: /home/biocbuild/bbs-3.18-bioc/R/bin/R CMD check --install=check:affylmGUI.install-out.txt --library=/home/biocbuild/bbs-3.18-bioc/R/site-library --timings affylmGUI_1.76.0.tar.gz StartedAt: 2024-04-15 19:55:20 -0400 (Mon, 15 Apr 2024) EndedAt: 2024-04-15 19:56:58 -0400 (Mon, 15 Apr 2024) EllapsedTime: 98.5 seconds RetCode: 0 Status: OK CheckDir: affylmGUI.Rcheck Warnings: 0