Package: acde Version: 1.32.0 Command: /home/biocbuild/R/R-4.3.1/bin/R CMD check --install=check:acde.install-out.txt --library=/home/biocbuild/R/R-4.3.1/site-library --no-vignettes --timings acde_1.32.0.tar.gz StartedAt: 2023-11-02 08:11:24 -0000 (Thu, 02 Nov 2023) EndedAt: 2023-11-02 08:14:01 -0000 (Thu, 02 Nov 2023) EllapsedTime: 156.7 seconds RetCode: 0 Status: OK CheckDir: acde.Rcheck Warnings: 0