Package: Xeva Version: 1.18.0 Command: /Library/Frameworks/R.framework/Resources/bin/R CMD build --keep-empty-dirs --no-resave-data Xeva StartedAt: 2024-04-15 22:50:41 -0400 (Mon, 15 Apr 2024) EndedAt: 2024-04-15 22:52:53 -0400 (Mon, 15 Apr 2024) EllapsedTime: 131.2 seconds RetCode: 0 Status: OK PackageFile: Xeva_1.18.0.tar.gz PackageFileSize: 1.571 MiB