Package: VegaMC Version: 3.40.0 Command: /home/biocbuild/R/R-4.3.1/bin/R CMD check --install=check:VegaMC.install-out.txt --library=/home/biocbuild/R/R-4.3.1/site-library --no-vignettes --timings VegaMC_3.40.0.tar.gz StartedAt: 2023-11-02 15:10:18 -0000 (Thu, 02 Nov 2023) EndedAt: 2023-11-02 15:12:33 -0000 (Thu, 02 Nov 2023) EllapsedTime: 134.3 seconds RetCode: 0 Status: WARNINGS CheckDir: VegaMC.Rcheck Warnings: 1