Package: VanillaICE Version: 1.64.0 Command: /home/biocbuild/R/R-4.3.1/bin/R CMD check --install=check:VanillaICE.install-out.txt --library=/home/biocbuild/R/R-4.3.1/site-library --no-vignettes --timings VanillaICE_1.64.0.tar.gz StartedAt: 2023-11-02 15:09:47 -0000 (Thu, 02 Nov 2023) EndedAt: 2023-11-02 15:15:22 -0000 (Thu, 02 Nov 2023) EllapsedTime: 335.1 seconds RetCode: 0 Status: WARNINGS CheckDir: VanillaICE.Rcheck Warnings: 1