Package: TMixClust Version: 1.24.0 Command: /home/biocbuild/R/R-4.3.1/bin/R CMD build --keep-empty-dirs --no-resave-data TMixClust StartedAt: 2023-11-02 07:06:52 -0000 (Thu, 02 Nov 2023) EndedAt: 2023-11-02 07:07:27 -0000 (Thu, 02 Nov 2023) EllapsedTime: 35.1 seconds RetCode: 0 Status: OK PackageFile: TMixClust_1.24.0.tar.gz PackageFileSize: 492.9 KiB