Package: SpatialFeatureExperiment Version: 1.4.0 Command: chmod a+r SpatialFeatureExperiment -R && F:\biocbuild\bbs-3.18-bioc\R\bin\R.exe CMD build --keep-empty-dirs --no-resave-data SpatialFeatureExperiment StartedAt: 2024-04-15 21:21:56 -0400 (Mon, 15 Apr 2024) EndedAt: 2024-04-15 21:24:06 -0400 (Mon, 15 Apr 2024) EllapsedTime: 129.6 seconds RetCode: 0 Status: OK PackageFile: SpatialFeatureExperiment_1.4.0.tar.gz PackageFileSize: 1.63 MiB