Package: SimBindProfiles Version: 1.40.0 Command: /home/biocbuild/bbs-3.18-bioc/R/bin/R CMD check --install=check:SimBindProfiles.install-out.txt --library=/home/biocbuild/bbs-3.18-bioc/R/site-library --timings SimBindProfiles_1.40.0.tar.gz StartedAt: 2024-04-16 03:58:40 -0400 (Tue, 16 Apr 2024) EndedAt: 2024-04-16 04:01:45 -0400 (Tue, 16 Apr 2024) EllapsedTime: 184.2 seconds RetCode: 0 Status: WARNINGS CheckDir: SimBindProfiles.Rcheck Warnings: 1