Package: SNPRelate Version: 1.36.1 Command: /home/biocbuild/bbs-3.18-bioc/R/bin/R CMD build --keep-empty-dirs --no-resave-data SNPRelate StartedAt: 2024-04-15 19:20:05 -0400 (Mon, 15 Apr 2024) EndedAt: 2024-04-15 19:20:52 -0400 (Mon, 15 Apr 2024) EllapsedTime: 46.6 seconds RetCode: 0 Status: OK PackageFile: SNPRelate_1.36.1.tar.gz PackageFileSize: 3.054 MiB