Package: SIAMCAT Version: 2.6.0 Command: /Library/Frameworks/R.framework/Resources/bin/R CMD build --keep-empty-dirs --no-resave-data SIAMCAT StartedAt: 2024-03-03 18:19:47 -0500 (Sun, 03 Mar 2024) EndedAt: 2024-03-03 18:23:50 -0500 (Sun, 03 Mar 2024) EllapsedTime: 242.7 seconds RetCode: 0 Status: OK PackageFile: SIAMCAT_2.6.0.tar.gz PackageFileSize: 18.77 MiB