Package: SCnorm Version: 1.24.0 Command: /Library/Frameworks/R.framework/Resources/bin/R CMD check --install=check:SCnorm.install-out.txt --library=/Library/Frameworks/R.framework/Resources/library --no-vignettes --timings SCnorm_1.24.0.tar.gz StartedAt: 2024-03-03 23:19:25 -0500 (Sun, 03 Mar 2024) EndedAt: 2024-03-03 23:23:00 -0500 (Sun, 03 Mar 2024) EllapsedTime: 214.9 seconds RetCode: 0 Status: OK CheckDir: SCnorm.Rcheck Warnings: 0