Package: SCATE Version: 1.12.0 Command: /Library/Frameworks/R.framework/Resources/bin/R CMD INSTALL SCATE StartedAt: 2024-04-15 16:44:01 -0400 (Mon, 15 Apr 2024) EndedAt: 2024-04-15 16:45:20 -0400 (Mon, 15 Apr 2024) EllapsedTime: 79.6 seconds RetCode: 0 Status: OK