Package: SCATE Version: 1.12.0 Command: /Library/Frameworks/R.framework/Resources/bin/R CMD check --install=check:SCATE.install-out.txt --library=/Library/Frameworks/R.framework/Resources/library --no-vignettes --timings SCATE_1.12.0.tar.gz StartedAt: 2024-04-16 08:22:34 -0400 (Tue, 16 Apr 2024) EndedAt: 2024-04-16 08:39:59 -0400 (Tue, 16 Apr 2024) EllapsedTime: 1045.1 seconds RetCode: 0 Status: WARNINGS CheckDir: SCATE.Rcheck Warnings: 1