Package: SCATE Version: 1.12.0 Command: /Library/Frameworks/R.framework/Resources/bin/R CMD build --keep-empty-dirs --no-resave-data SCATE StartedAt: 2024-04-15 21:35:56 -0400 (Mon, 15 Apr 2024) EndedAt: 2024-04-15 22:15:18 -0400 (Mon, 15 Apr 2024) EllapsedTime: 2361.7 seconds RetCode: 0 Status: OK PackageFile: SCATE_1.12.0.tar.gz PackageFileSize: 512.7 KiB