Package: S4Vectors Version: 0.40.1 Command: /home/biocbuild/R/R-4.3.1/bin/R CMD INSTALL S4Vectors StartedAt: 2023-11-01 20:06:25 -0000 (Wed, 01 Nov 2023) EndedAt: 2023-11-01 20:07:23 -0000 (Wed, 01 Nov 2023) EllapsedTime: 57.6 seconds RetCode: 0 Status: OK