Package: S4Arrays Version: 1.2.1 Command: rm -rf S4Arrays.buildbin-libdir && mkdir S4Arrays.buildbin-libdir && /Users/biocbuild/BBS/utils/build-universal.sh S4Arrays_1.2.1.tar.gz /Library/Frameworks/R.framework/Resources/bin/R S4Arrays.buildbin-libdir StartedAt: 2024-04-16 12:38:07 -0400 (Tue, 16 Apr 2024) EndedAt: 2024-04-16 12:38:43 -0400 (Tue, 16 Apr 2024) EllapsedTime: 36.0 seconds RetCode: 0 Status: OK PackageFile: S4Arrays_1.2.1.tgz PackageFileSize: 723.1 KiB