Package: RnBeads Version: 2.20.0 Command: /home/biocbuild/R/R-4.3.1/bin/R CMD check --install=check:RnBeads.install-out.txt --library=/home/biocbuild/R/R-4.3.1/site-library --no-vignettes --timings RnBeads_2.20.0.tar.gz StartedAt: 2023-11-02 13:51:29 -0000 (Thu, 02 Nov 2023) EndedAt: 2023-11-02 14:04:16 -0000 (Thu, 02 Nov 2023) EllapsedTime: 766.5 seconds RetCode: 0 Status: OK CheckDir: RnBeads.Rcheck Warnings: 0