Package: Risa Version: 1.44.0 Command: /home/biocbuild/R/R-4.3.1/bin/R CMD build --keep-empty-dirs --no-resave-data Risa StartedAt: 2023-11-02 05:19:36 -0000 (Thu, 02 Nov 2023) EndedAt: 2023-11-02 05:21:19 -0000 (Thu, 02 Nov 2023) EllapsedTime: 103.4 seconds RetCode: 0 Status: OK PackageFile: Risa_1.44.0.tar.gz PackageFileSize: 2.099 MiB