Package: RiboProfiling Version: 1.32.0 Command: /home/biocbuild/R/R-4.3.1/bin/R CMD check --install=check:RiboProfiling.install-out.txt --library=/home/biocbuild/R/R-4.3.1/site-library --no-vignettes --timings RiboProfiling_1.32.0.tar.gz StartedAt: 2023-11-02 13:42:57 -0000 (Thu, 02 Nov 2023) EndedAt: 2023-11-02 13:53:36 -0000 (Thu, 02 Nov 2023) EllapsedTime: 639.0 seconds RetCode: 1 Status: ERROR CheckDir: RiboProfiling.Rcheck Warnings: NA