Package: RgnTX Version: 1.4.0 Command: rm -rf RgnTX.buildbin-libdir && mkdir RgnTX.buildbin-libdir && /Users/biocbuild/BBS/utils/build-universal.sh RgnTX_1.4.0.tar.gz /Library/Frameworks/R.framework/Resources/bin/R RgnTX.buildbin-libdir StartedAt: 2024-03-04 00:59:33 -0500 (Mon, 04 Mar 2024) EndedAt: 2024-03-04 01:00:33 -0500 (Mon, 04 Mar 2024) EllapsedTime: 59.8 seconds RetCode: 0 Status: OK PackageFile: RgnTX_1.4.0.tgz PackageFileSize: 2.65 MiB