Package: RegEnrich Version: 1.12.1 Command: /home/biocbuild/bbs-3.18-bioc/R/bin/R CMD check --install=check:RegEnrich.install-out.txt --library=/home/biocbuild/bbs-3.18-bioc/R/site-library --timings RegEnrich_1.12.1.tar.gz StartedAt: 2024-04-16 02:51:49 -0400 (Tue, 16 Apr 2024) EndedAt: 2024-04-16 03:05:23 -0400 (Tue, 16 Apr 2024) EllapsedTime: 814.5 seconds RetCode: 0 Status: OK CheckDir: RegEnrich.Rcheck Warnings: 0