Package: RefPlus Version: 1.72.0 Command: /Library/Frameworks/R.framework/Resources/bin/R CMD check --install=check:RefPlus.install-out.txt --library=/Library/Frameworks/R.framework/Resources/library --no-vignettes --timings RefPlus_1.72.0.tar.gz StartedAt: 2024-04-16 07:35:23 -0400 (Tue, 16 Apr 2024) EndedAt: 2024-04-16 07:37:41 -0400 (Tue, 16 Apr 2024) EllapsedTime: 137.9 seconds RetCode: 0 Status: OK CheckDir: RefPlus.Rcheck Warnings: 0