Package: ReactomeGSA Version: 1.16.0 Command: /home/biocbuild/R/R-4.3.1/bin/R CMD INSTALL ReactomeGSA StartedAt: 2023-11-01 20:14:06 -0000 (Wed, 01 Nov 2023) EndedAt: 2023-11-01 20:14:16 -0000 (Wed, 01 Nov 2023) EllapsedTime: 9.1 seconds RetCode: 0 Status: OK