Package: Rbowtie Version: 1.42.0 Command: chmod a+r Rbowtie -R && F:\biocbuild\bbs-3.18-bioc\R\bin\R.exe CMD build --keep-empty-dirs --no-resave-data Rbowtie StartedAt: 2024-04-15 20:35:20 -0400 (Mon, 15 Apr 2024) EndedAt: 2024-04-15 20:37:32 -0400 (Mon, 15 Apr 2024) EllapsedTime: 132.2 seconds RetCode: 0 Status: OK PackageFile: Rbowtie_1.42.0.tar.gz PackageFileSize: 903.4 KiB