Package: RNASeqPower Version: 1.42.0 Command: chmod a+r RNASeqPower -R && F:\biocbuild\bbs-3.18-bioc\R\bin\R.exe CMD build --keep-empty-dirs --no-resave-data RNASeqPower StartedAt: 2024-04-15 20:46:08 -0400 (Mon, 15 Apr 2024) EndedAt: 2024-04-15 20:46:18 -0400 (Mon, 15 Apr 2024) EllapsedTime: 9.2 seconds RetCode: 0 Status: OK PackageFile: RNASeqPower_1.42.0.tar.gz PackageFileSize: 111.2 KiB