Package: RCASPAR Version: 1.48.0 Command: chmod a+r RCASPAR -R && F:\biocbuild\bbs-3.18-bioc\R\bin\R.exe CMD build --keep-empty-dirs --no-resave-data RCASPAR StartedAt: 2024-04-15 20:35:40 -0400 (Mon, 15 Apr 2024) EndedAt: 2024-04-15 20:35:52 -0400 (Mon, 15 Apr 2024) EllapsedTime: 11.2 seconds RetCode: 0 Status: OK PackageFile: RCASPAR_1.48.0.tar.gz PackageFileSize: 205.7 KiB