Package: RBioinf Version: 1.62.0 Command: chmod a+r RBioinf -R && F:\biocbuild\bbs-3.18-bioc\R\bin\R.exe CMD build --keep-empty-dirs --no-resave-data RBioinf StartedAt: 2024-04-15 20:35:07 -0400 (Mon, 15 Apr 2024) EndedAt: 2024-04-15 20:35:24 -0400 (Mon, 15 Apr 2024) EllapsedTime: 17.3 seconds RetCode: 0 Status: OK PackageFile: RBioinf_1.62.0.tar.gz PackageFileSize: 3.436 MiB