Package: Path2PPI Version: 1.32.0 Command: chmod a+r Path2PPI -R && F:\biocbuild\bbs-3.18-bioc\R\bin\R.exe CMD build --keep-empty-dirs --no-resave-data Path2PPI StartedAt: 2024-04-15 20:09:34 -0400 (Mon, 15 Apr 2024) EndedAt: 2024-04-15 20:10:04 -0400 (Mon, 15 Apr 2024) EllapsedTime: 29.8 seconds RetCode: 0 Status: OK PackageFile: Path2PPI_1.32.0.tar.gz PackageFileSize: 1.239 MiB